BEGIN:VCALENDAR
VERSION:2.0
PRODID:-//G-TAC - ECPv6.15.20//NONSGML v1.0//EN
CALSCALE:GREGORIAN
METHOD:PUBLISH
X-WR-CALNAME:G-TAC
X-ORIGINAL-URL:https://g-tac.ca
X-WR-CALDESC:Events for G-TAC
REFRESH-INTERVAL;VALUE=DURATION:PT1H
X-Robots-Tag:noindex
X-PUBLISHED-TTL:PT1H
BEGIN:VTIMEZONE
TZID:America/Toronto
BEGIN:DAYLIGHT
TZOFFSETFROM:-0500
TZOFFSETTO:-0400
TZNAME:EDT
DTSTART:20210314T070000
END:DAYLIGHT
BEGIN:STANDARD
TZOFFSETFROM:-0400
TZOFFSETTO:-0500
TZNAME:EST
DTSTART:20211107T060000
END:STANDARD
BEGIN:DAYLIGHT
TZOFFSETFROM:-0500
TZOFFSETTO:-0400
TZNAME:EDT
DTSTART:20220313T070000
END:DAYLIGHT
BEGIN:STANDARD
TZOFFSETFROM:-0400
TZOFFSETTO:-0500
TZNAME:EST
DTSTART:20221106T060000
END:STANDARD
BEGIN:DAYLIGHT
TZOFFSETFROM:-0500
TZOFFSETTO:-0400
TZNAME:EDT
DTSTART:20230312T070000
END:DAYLIGHT
BEGIN:STANDARD
TZOFFSETFROM:-0400
TZOFFSETTO:-0500
TZNAME:EST
DTSTART:20231105T060000
END:STANDARD
END:VTIMEZONE
BEGIN:VEVENT
DTSTART;TZID=America/Toronto:20220526T090000
DTEND;TZID=America/Toronto:20220526T090000
DTSTAMP:20260422T105736
CREATED:20231113T034023Z
LAST-MODIFIED:20231113T034023Z
UID:4831-1653555600-1653555600@g-tac.ca
SUMMARY:Meet the Employer – SSENSE
DESCRIPTION:SSENSE has continued to grow and want talent from various domains to join their team.About the Employer:\nSSENSE is a multi-brand retailer based in Montreal\, Canada specialising in the sale of designer fashion and high end streetwear. It was founded as an e-commerce platform in 2003. The company delivers to 114 countries around the world and operates websites in French\, English\, Japanese and Korean.Technology is at the core of everything we do at SSENSE. Driven by an engineering mindset and a problem-solving attitude\, we blend fashion with technology to deliver an unparalleled experience to our customers as we build seamless\, custom solutions to deliver the SSENSE offering. \nThe SSENSE tech team is responsible for an international headless commerce platform. Working in an agile environment\, our squads are made up of experienced innovators in Product Management\, QA\, Design\, DevOps\, Software Development\, Machine Learning\, Data Engineering\, and Security. Our technology organization has been growing at a rate of 2X year-over-year and is doubling once again in 2022 as we expand across Canada\, US\, and Europe. \nAbout the Speaker: \n Martin has been in the recruitment world for more than 18 years. His love for recruitment has led him to focus on hard-to-fill roles in Information Technology and Engineering. Having worked as a Senior Talent Acquisition Partner\, Recruitment Lead\, and Human Resources Manager through the years\, Martin is currently the Manager of Talent Sourcing at SSENSE\, where he leads a team of dedicated Talent Sourcers responsible for market research and building pipelines of qualified candidates.
URL:https://g-tac.ca/event/meet-the-employer-ssense/
ATTACH;FMTTYPE=image/png:https://g-tac.ca/wp-content/uploads/2022/05/ME-calendar-15.png
END:VEVENT
END:VCALENDAR