BEGIN:VCALENDAR
VERSION:2.0
PRODID:-//G-TAC - ECPv6.15.20//NONSGML v1.0//EN
CALSCALE:GREGORIAN
METHOD:PUBLISH
X-WR-CALNAME:G-TAC
X-ORIGINAL-URL:https://g-tac.ca
X-WR-CALDESC:Events for G-TAC
REFRESH-INTERVAL;VALUE=DURATION:PT1H
X-Robots-Tag:noindex
X-PUBLISHED-TTL:PT1H
BEGIN:VTIMEZONE
TZID:America/Toronto
BEGIN:DAYLIGHT
TZOFFSETFROM:-0500
TZOFFSETTO:-0400
TZNAME:EDT
DTSTART:20210314T070000
END:DAYLIGHT
BEGIN:STANDARD
TZOFFSETFROM:-0400
TZOFFSETTO:-0500
TZNAME:EST
DTSTART:20211107T060000
END:STANDARD
BEGIN:DAYLIGHT
TZOFFSETFROM:-0500
TZOFFSETTO:-0400
TZNAME:EDT
DTSTART:20220313T070000
END:DAYLIGHT
BEGIN:STANDARD
TZOFFSETFROM:-0400
TZOFFSETTO:-0500
TZNAME:EST
DTSTART:20221106T060000
END:STANDARD
BEGIN:DAYLIGHT
TZOFFSETFROM:-0500
TZOFFSETTO:-0400
TZNAME:EDT
DTSTART:20230312T070000
END:DAYLIGHT
BEGIN:STANDARD
TZOFFSETFROM:-0400
TZOFFSETTO:-0500
TZNAME:EST
DTSTART:20231105T060000
END:STANDARD
END:VTIMEZONE
BEGIN:VEVENT
DTSTART;TZID=America/Toronto:20220517T090000
DTEND;TZID=America/Toronto:20220517T090000
DTSTAMP:20260422T105740
CREATED:20231113T034023Z
LAST-MODIFIED:20231113T034023Z
UID:4829-1652778000-1652778000@g-tac.ca
SUMMARY:加拿大求职中常见的communication问题及应对
DESCRIPTION:– 什么是北美沟通技巧中常说的elevator pitch?– 如何在面试中tell me about yourself？\n– 什么是职场工作中的small talk?\n新移民移居海外找到心仪的专业工作不是一件容易的事情，但是也绝对不是不可能的事情。了解好游戏规则，做好充分的准备，一切皆有可能。加强沟通能力/communication skills就是必做功课之一，无论在求职阶段，还是在入职后的职业发展阶段都很重要。\n很多招聘岗位的描述中都会要求应聘者具备良好的口头和书面沟通能力/communication skills。沟通能力/communication skills可以简单归纳为提高英文表达，更可以复杂归纳为对当地/职场文化的理解和融入。 本期讲座，结合G-TAC多年来帮助新移民客户找工作的经验，Mr. Shaw Quan\, G-TAC 的资深就业顾问，将为大家由简入深地介绍新移民在加拿大进入职场过程中会遇到的communications问题以及如何应对。敬请参加。
URL:https://g-tac.ca/event/%e5%8a%a0%e6%8b%bf%e5%a4%a7%e6%b1%82%e8%81%8c%e4%b8%ad%e5%b8%b8%e8%a7%81%e7%9a%84communication%e9%97%ae%e9%a2%98%e5%8f%8a%e5%ba%94%e5%af%b9/
ATTACH;FMTTYPE=image/png:https://g-tac.ca/wp-content/uploads/2022/01/30.png
END:VEVENT
END:VCALENDAR