BEGIN:VCALENDAR
VERSION:2.0
PRODID:-//G-TAC - ECPv6.15.20//NONSGML v1.0//EN
CALSCALE:GREGORIAN
METHOD:PUBLISH
X-ORIGINAL-URL:https://g-tac.ca
X-WR-CALDESC:Events for G-TAC
REFRESH-INTERVAL;VALUE=DURATION:PT1H
X-Robots-Tag:noindex
X-PUBLISHED-TTL:PT1H
BEGIN:VTIMEZONE
TZID:America/Toronto
BEGIN:DAYLIGHT
TZOFFSETFROM:-0500
TZOFFSETTO:-0400
TZNAME:EDT
DTSTART:20210314T070000
END:DAYLIGHT
BEGIN:STANDARD
TZOFFSETFROM:-0400
TZOFFSETTO:-0500
TZNAME:EST
DTSTART:20211107T060000
END:STANDARD
BEGIN:DAYLIGHT
TZOFFSETFROM:-0500
TZOFFSETTO:-0400
TZNAME:EDT
DTSTART:20220313T070000
END:DAYLIGHT
BEGIN:STANDARD
TZOFFSETFROM:-0400
TZOFFSETTO:-0500
TZNAME:EST
DTSTART:20221106T060000
END:STANDARD
BEGIN:DAYLIGHT
TZOFFSETFROM:-0500
TZOFFSETTO:-0400
TZNAME:EDT
DTSTART:20230312T070000
END:DAYLIGHT
BEGIN:STANDARD
TZOFFSETFROM:-0400
TZOFFSETTO:-0500
TZNAME:EST
DTSTART:20231105T060000
END:STANDARD
END:VTIMEZONE
BEGIN:VEVENT
DTSTART;TZID=America/Toronto:20220419T090000
DTEND;TZID=America/Toronto:20220419T090000
DTSTAMP:20260422T124031
CREATED:20231113T034045Z
LAST-MODIFIED:20231113T034045Z
UID:4838-1650358800-1650358800@g-tac.ca
SUMMARY:多伦多的学区以及学区房介绍
DESCRIPTION:学校排名每年的变化大吗，对我们选择学区房有怎样的指导意义？学区会不会经常变化，买了房子后被划分到别的学校呢？\n租住好的学区的房子是不是更划算？ \n \n \n \n \n \n \n \n \n大多伦多地区作为加拿大的经济中心，宽容友好的城市环境，大量涌入的外来人口，发达的经济状况，丰富多元的文化融入，繁荣多样的就业机会，新兴包容的意识形态，相对平和的社会体系，大事件面前的从容应对的社会保障制度，这些都构成了多伦多在加拿大所有大城市群中不可比拟的独领风骚。\n城市大了，选择多了，需要考量的因素就多了， 而置业安家，是每一个家庭的重中之重。新移民在哪里安家，不仅关系当下的职业发展子女教育，也许还会有更长远的影响。本期讲座我们关注多伦多以及它的学区和学区房。欢迎参加WIN&WIN team的SOFIA WU/FORREST WANG 合作推出的魅力多伦多之学区及学区房系列讲座。\n  \n \n \n \n 
URL:https://g-tac.ca/event/%e5%a4%9a%e4%bc%a6%e5%a4%9a%e7%9a%84%e5%ad%a6%e5%8c%ba%e4%bb%a5%e5%8f%8a%e5%ad%a6%e5%8c%ba%e6%88%bf%e4%bb%8b%e7%bb%8d/
ATTACH;FMTTYPE=image/png:https://g-tac.ca/wp-content/uploads/2022/04/ME-calendar-6.png
END:VEVENT
END:VCALENDAR