BEGIN:VCALENDAR
VERSION:2.0
PRODID:-//G-TAC - ECPv6.15.20//NONSGML v1.0//EN
CALSCALE:GREGORIAN
METHOD:PUBLISH
X-ORIGINAL-URL:https://g-tac.ca
X-WR-CALDESC:Events for G-TAC
REFRESH-INTERVAL;VALUE=DURATION:PT1H
X-Robots-Tag:noindex
X-PUBLISHED-TTL:PT1H
BEGIN:VTIMEZONE
TZID:America/Toronto
BEGIN:DAYLIGHT
TZOFFSETFROM:-0500
TZOFFSETTO:-0400
TZNAME:EDT
DTSTART:20210314T070000
END:DAYLIGHT
BEGIN:STANDARD
TZOFFSETFROM:-0400
TZOFFSETTO:-0500
TZNAME:EST
DTSTART:20211107T060000
END:STANDARD
BEGIN:DAYLIGHT
TZOFFSETFROM:-0500
TZOFFSETTO:-0400
TZNAME:EDT
DTSTART:20220313T070000
END:DAYLIGHT
BEGIN:STANDARD
TZOFFSETFROM:-0400
TZOFFSETTO:-0500
TZNAME:EST
DTSTART:20221106T060000
END:STANDARD
BEGIN:DAYLIGHT
TZOFFSETFROM:-0500
TZOFFSETTO:-0400
TZNAME:EDT
DTSTART:20230312T070000
END:DAYLIGHT
BEGIN:STANDARD
TZOFFSETFROM:-0400
TZOFFSETTO:-0500
TZNAME:EST
DTSTART:20231105T060000
END:STANDARD
END:VTIMEZONE
BEGIN:VEVENT
DTSTART;TZID=America/Toronto:20220406T083000
DTEND;TZID=America/Toronto:20220406T083000
DTSTAMP:20260422T124034
CREATED:20231113T034046Z
LAST-MODIFIED:20231113T034046Z
UID:4842-1649233800-1649233800@g-tac.ca
SUMMARY:Career Forum – 7 LIVE Webinars to Learn Different Options for Your Career Development
DESCRIPTION:1. Are you looking for a job commensurate with your professional skills and experience?2. Are you thinking of a career transition and wanting to explore more options?\n3. Are you trying out to pursue career development and grow your professional network?\nWelcome to the Global Talent Alliance Canada(g-TAC)’s National digital platform. G-TAC is a premier provider of resources & connection platforms for professionals developing their careers in Canada.\nPartner with Opportunities New Brunswick\, the 11th National Virtual Career Expo will take place on coming Tuesday and Wednesday\, April 5&6\, 2022! This 2-day national event is all about jobs\, career options and professional networks. In addition to apply for jobs and chat with company recruiters\, you can join the LIVE channel to interact with experts of subject matters to refresh your labour market information\, and stay abreast of various options and opportunities to find your fit.\nDay 2 – ‘Career Forum’\, you will explore different options for your career development.\n2022-4-6 08:30 OPENNING: Building Talent Pipeline\n2022-4-6 09:00 ONB: Venez Vivre Au Nouveau Brunswick (presentation in French)\n2022-4-6 10:00 Digital adoption Program in Canada\n2022-4-6 11:00 CAP BC: Accounting Certificate & Employment in Canada\n2022-4-6 12:00 Henry Global: Navigating Canadian Immigration System\n2022-4-6 13:00 ICTC – Employment in Canada’s booming Digital Economy\n2022-4-6 14:00 PASS: Introduction of Nursing Registration Process & Transferrable Skills for Employment\n2022-4-6 15:00 BCCA – Insights on Canada’s Construction Industry & Employment Opportunities
URL:https://g-tac.ca/event/career-forum-7-live-webinars-to-learn-different-options-for-your-career-development/
END:VEVENT
END:VCALENDAR