BEGIN:VCALENDAR
VERSION:2.0
PRODID:-//G-TAC - ECPv6.15.20//NONSGML v1.0//EN
CALSCALE:GREGORIAN
METHOD:PUBLISH
X-ORIGINAL-URL:https://g-tac.ca
X-WR-CALDESC:Events for G-TAC
REFRESH-INTERVAL;VALUE=DURATION:PT1H
X-Robots-Tag:noindex
X-PUBLISHED-TTL:PT1H
BEGIN:VTIMEZONE
TZID:America/Toronto
BEGIN:DAYLIGHT
TZOFFSETFROM:-0500
TZOFFSETTO:-0400
TZNAME:EDT
DTSTART:20210314T070000
END:DAYLIGHT
BEGIN:STANDARD
TZOFFSETFROM:-0400
TZOFFSETTO:-0500
TZNAME:EST
DTSTART:20211107T060000
END:STANDARD
BEGIN:DAYLIGHT
TZOFFSETFROM:-0500
TZOFFSETTO:-0400
TZNAME:EDT
DTSTART:20220313T070000
END:DAYLIGHT
BEGIN:STANDARD
TZOFFSETFROM:-0400
TZOFFSETTO:-0500
TZNAME:EST
DTSTART:20221106T060000
END:STANDARD
BEGIN:DAYLIGHT
TZOFFSETFROM:-0500
TZOFFSETTO:-0400
TZNAME:EDT
DTSTART:20230312T070000
END:DAYLIGHT
BEGIN:STANDARD
TZOFFSETFROM:-0400
TZOFFSETTO:-0500
TZNAME:EST
DTSTART:20231105T060000
END:STANDARD
END:VTIMEZONE
BEGIN:VEVENT
DTSTART;TZID=America/Toronto:20220322T090000
DTEND;TZID=America/Toronto:20220322T090000
DTSTAMP:20260422T160324
CREATED:20231113T034105Z
LAST-MODIFIED:20231113T034105Z
UID:4848-1647939600-1647939600@g-tac.ca
SUMMARY:加拿大房屋买卖中的Offer之解读
DESCRIPTION:– 买房过程中的‘OFFER’和‘合同’是一回事吗？– OFFER有哪些的种类和格式？\n– 下OFFER时需要的注意事项有哪些？\n移民加拿大开启一段新的人生旅程，买房是很多人需要经历的事情。家庭最重要的一笔费用支出，当然要对各个环节做到心中有数。 可以说，下OFFER 是我们买卖房屋中最重要一个环节，决定了成交与否，也为日后的顺利成交打下基础。\n下OFFER有什么特殊的注意事项，有什么要避免的雷？我们说的OFFER中的条件是怎样规定的？下无条件的OFFER意味着什么， 有什么后果？兵马未动粮草先行，在看房下OFFER之前，我们来了解一下‘OFFER’，看看都有哪些主要格式条款，您的权利和义务是怎么划定的。这样等到遇见中意的房源，下Offer的时候，您可以做到心中有数，也明白自己签署的文件是什么。G-TAC很高兴继续邀请经验丰富的WIN-WIN TEAM为您介绍关于房屋买卖中‘OFFER’的那些事儿，抛砖引玉，帮助大家做个明明白白的房主。WIN-WIN TEAM致力于给大家介绍买房卖房过程中的基础知识，为大家提供精确的市场信息，帮助您顺利地安家置业，做好准备，少走弯路，更快地融入加拿大本地生活。 您的安居，我的乐业。\n \n 
URL:https://g-tac.ca/event/%e5%8a%a0%e6%8b%bf%e5%a4%a7%e6%88%bf%e5%b1%8b%e4%b9%b0%e5%8d%96%e4%b8%ad%e7%9a%84offer%e4%b9%8b%e8%a7%a3%e8%af%bb/
ATTACH;FMTTYPE=image/png:https://g-tac.ca/wp-content/uploads/2022/02/44.png
END:VEVENT
END:VCALENDAR