BEGIN:VCALENDAR
VERSION:2.0
PRODID:-//G-TAC - ECPv6.15.20//NONSGML v1.0//EN
CALSCALE:GREGORIAN
METHOD:PUBLISH
X-WR-CALNAME:G-TAC
X-ORIGINAL-URL:https://g-tac.ca
X-WR-CALDESC:Events for G-TAC
REFRESH-INTERVAL;VALUE=DURATION:PT1H
X-Robots-Tag:noindex
X-PUBLISHED-TTL:PT1H
BEGIN:VTIMEZONE
TZID:America/Toronto
BEGIN:DAYLIGHT
TZOFFSETFROM:-0500
TZOFFSETTO:-0400
TZNAME:EDT
DTSTART:20210314T070000
END:DAYLIGHT
BEGIN:STANDARD
TZOFFSETFROM:-0400
TZOFFSETTO:-0500
TZNAME:EST
DTSTART:20211107T060000
END:STANDARD
BEGIN:DAYLIGHT
TZOFFSETFROM:-0500
TZOFFSETTO:-0400
TZNAME:EDT
DTSTART:20220313T070000
END:DAYLIGHT
BEGIN:STANDARD
TZOFFSETFROM:-0400
TZOFFSETTO:-0500
TZNAME:EST
DTSTART:20221106T060000
END:STANDARD
BEGIN:DAYLIGHT
TZOFFSETFROM:-0500
TZOFFSETTO:-0400
TZNAME:EDT
DTSTART:20230312T070000
END:DAYLIGHT
BEGIN:STANDARD
TZOFFSETFROM:-0400
TZOFFSETTO:-0500
TZNAME:EST
DTSTART:20231105T060000
END:STANDARD
END:VTIMEZONE
BEGIN:VEVENT
DTSTART;TZID=America/Toronto:20220310T090000
DTEND;TZID=America/Toronto:20220310T090000
DTSTAMP:20260422T160315
CREATED:20231113T034106Z
LAST-MODIFIED:20231113T034106Z
UID:4850-1646902800-1646902800@g-tac.ca
SUMMARY:What’s unique about the construction industry in terms of employers/hiring needs in Canada?
DESCRIPTION:• What’s unique about the construction industry in terms of employers/hiring needs?• What is the licensing process for the top three professions in the construction industry: skilled trades\, engineers\, and architects?\n• How do I get supports if I want to start my career in this industry?\nDescription:\nContributing7.5 per cent of Canada’s GDP\, and employing 1.4 million people\, construction sector is critical to Canada’s economy. There are increasing career opportunities and various career paths for you to explore.\nThe BCCA-Integrating Newcomers (BCCA-IN) program is a government-funded\, free\, nationwide employment coaching service for skilled immigrants looking to transition careers to the construction industry in Canada – before moving here.\nAt no cost to you\, BCCA-IN will assign a dedicated career coach and you will receive construction-related job hunting tips and tools\, live job leads\, a detailed skills and education assessment\, connections to provincial professional associations and licensing authorities\, plus\, suggestions on the most relevant pre and post-arrival settlement services you should access. Whether you have extensive experience in construction in your home country or are considering the construction industry as a target sector in Canada for your skills for the first time\, we can help.\n \n 
URL:https://g-tac.ca/event/whats-unique-about-the-construction-industry-in-terms-of-employers-hiring-needs-in-canada/
ATTACH;FMTTYPE=image/png:https://g-tac.ca/wp-content/uploads/2021/11/sample-IN-collage-used-by-our-partner-2.png
END:VEVENT
END:VCALENDAR