BEGIN:VCALENDAR
VERSION:2.0
PRODID:-//G-TAC - ECPv6.15.20//NONSGML v1.0//EN
CALSCALE:GREGORIAN
METHOD:PUBLISH
X-ORIGINAL-URL:https://g-tac.ca
X-WR-CALDESC:Events for G-TAC
REFRESH-INTERVAL;VALUE=DURATION:PT1H
X-Robots-Tag:noindex
X-PUBLISHED-TTL:PT1H
BEGIN:VTIMEZONE
TZID:America/Toronto
BEGIN:DAYLIGHT
TZOFFSETFROM:-0500
TZOFFSETTO:-0400
TZNAME:EDT
DTSTART:20210314T070000
END:DAYLIGHT
BEGIN:STANDARD
TZOFFSETFROM:-0400
TZOFFSETTO:-0500
TZNAME:EST
DTSTART:20211107T060000
END:STANDARD
BEGIN:DAYLIGHT
TZOFFSETFROM:-0500
TZOFFSETTO:-0400
TZNAME:EDT
DTSTART:20220313T070000
END:DAYLIGHT
BEGIN:STANDARD
TZOFFSETFROM:-0400
TZOFFSETTO:-0500
TZNAME:EST
DTSTART:20221106T060000
END:STANDARD
BEGIN:DAYLIGHT
TZOFFSETFROM:-0500
TZOFFSETTO:-0400
TZNAME:EDT
DTSTART:20230312T070000
END:DAYLIGHT
BEGIN:STANDARD
TZOFFSETFROM:-0400
TZOFFSETTO:-0500
TZNAME:EST
DTSTART:20231105T060000
END:STANDARD
END:VTIMEZONE
BEGIN:VEVENT
DTSTART;TZID=America/Toronto:20220308T090000
DTEND;TZID=America/Toronto:20220308T090000
DTSTAMP:20260422T160327
CREATED:20231113T034106Z
LAST-MODIFIED:20231113T034106Z
UID:4851-1646730000-1646730000@g-tac.ca
SUMMARY:萨省医疗保健系统简介
DESCRIPTION:– 您知道萨省的医保体系吗？– 您想知道在萨省如何就医吗？\n– 除了免费的医疗服务，政府还有哪些医药补助援助计划？\n当地人讲当地事:\n本期讲座，我们邀请了号称“萨省姐夫”的萨省老移民 Jeff Fang先生为大家介绍萨斯喀切温省的健康保险计划（SHA）情况，帮您了解相关医疗服务，医保卡、家庭医生的相关问题，并就如何就诊，如何看专科医生，以及萨省的保健福利，如儿童药物计划、低收入家庭健康福利等等进行介绍。带您一步步地从看病小白到就诊熟手，真正领略加拿大的全民免费医疗—-根据需要而不是支付能力提供医疗必需的医疗保健服务。\n 
URL:https://g-tac.ca/event/%e8%90%a8%e7%9c%81%e5%8c%bb%e7%96%97%e4%bf%9d%e5%81%a5%e7%b3%bb%e7%bb%9f%e7%ae%80%e4%bb%8b/
ATTACH;FMTTYPE=image/png:https://g-tac.ca/wp-content/uploads/2022/02/42.png
END:VEVENT
END:VCALENDAR