BEGIN:VCALENDAR
VERSION:2.0
PRODID:-//G-TAC - ECPv6.15.20//NONSGML v1.0//EN
CALSCALE:GREGORIAN
METHOD:PUBLISH
X-WR-CALNAME:G-TAC
X-ORIGINAL-URL:https://g-tac.ca
X-WR-CALDESC:Events for G-TAC
REFRESH-INTERVAL;VALUE=DURATION:PT1H
X-Robots-Tag:noindex
X-PUBLISHED-TTL:PT1H
BEGIN:VTIMEZONE
TZID:America/Toronto
BEGIN:DAYLIGHT
TZOFFSETFROM:-0500
TZOFFSETTO:-0400
TZNAME:EDT
DTSTART:20210314T070000
END:DAYLIGHT
BEGIN:STANDARD
TZOFFSETFROM:-0400
TZOFFSETTO:-0500
TZNAME:EST
DTSTART:20211107T060000
END:STANDARD
BEGIN:DAYLIGHT
TZOFFSETFROM:-0500
TZOFFSETTO:-0400
TZNAME:EDT
DTSTART:20220313T070000
END:DAYLIGHT
BEGIN:STANDARD
TZOFFSETFROM:-0400
TZOFFSETTO:-0500
TZNAME:EST
DTSTART:20221106T060000
END:STANDARD
BEGIN:DAYLIGHT
TZOFFSETFROM:-0500
TZOFFSETTO:-0400
TZNAME:EDT
DTSTART:20230312T070000
END:DAYLIGHT
BEGIN:STANDARD
TZOFFSETFROM:-0400
TZOFFSETTO:-0500
TZNAME:EST
DTSTART:20231105T060000
END:STANDARD
END:VTIMEZONE
BEGIN:VEVENT
DTSTART;TZID=America/Toronto:20220302T090000
DTEND;TZID=America/Toronto:20220302T090000
DTSTAMP:20260422T160316
CREATED:20231113T034106Z
LAST-MODIFIED:20231113T034106Z
UID:4852-1646211600-1646211600@g-tac.ca
SUMMARY:Business Analysis Creates Career Opportunities
DESCRIPTION:What is Business Analysis & Who is a Business Analyst?\nWhat does a Business Analyst do?\nWhat are the Personal Competencies of an effective BA? \n About the Speaker:\nStephanie Lachman-Doucet is a dynamic individual with experience driving organizational growth and efficiencies through the skillful design\, development\, deployment\, and support of mission critical business processes and information systems.\nHer experience spans numerous roles and a multitude of technologies. Over the course of her 30yr career\, Stephanie has developed expertise in enterprise architecture\, business process transformation\, business analysis\, business intelligence (BI)\, business analytics and application development.  She is skilled in all phases\, disciplines\, and issues related to system development\, the delivery and support of shared services\, IT operations and IT project/program management.\nShe holds an HBSc in Computer Science (Gold Medal)\, a Masters of Management\, and is CBAP\, CBDA\, PMP\, PMI-PBA\, TOGAF\, ITILv4 Foundation and CSM certified.   She is expressive speaker and instructor in project management\, business analysis\, agile approaches and ITIL/ITSM methodology and loves sharing her practical perspective with aspiring professionals.\n 
URL:https://g-tac.ca/event/business-analysis-creates-career-opportunities/
ATTACH;FMTTYPE=image/png:https://g-tac.ca/wp-content/uploads/2022/02/41.png
END:VEVENT
END:VCALENDAR