BEGIN:VCALENDAR
VERSION:2.0
PRODID:-//G-TAC - ECPv6.15.20//NONSGML v1.0//EN
CALSCALE:GREGORIAN
METHOD:PUBLISH
X-ORIGINAL-URL:https://g-tac.ca
X-WR-CALDESC:Events for G-TAC
REFRESH-INTERVAL;VALUE=DURATION:PT1H
X-Robots-Tag:noindex
X-PUBLISHED-TTL:PT1H
BEGIN:VTIMEZONE
TZID:America/Toronto
BEGIN:DAYLIGHT
TZOFFSETFROM:-0500
TZOFFSETTO:-0400
TZNAME:EDT
DTSTART:20210314T070000
END:DAYLIGHT
BEGIN:STANDARD
TZOFFSETFROM:-0400
TZOFFSETTO:-0500
TZNAME:EST
DTSTART:20211107T060000
END:STANDARD
BEGIN:DAYLIGHT
TZOFFSETFROM:-0500
TZOFFSETTO:-0400
TZNAME:EDT
DTSTART:20220313T070000
END:DAYLIGHT
BEGIN:STANDARD
TZOFFSETFROM:-0400
TZOFFSETTO:-0500
TZNAME:EST
DTSTART:20221106T060000
END:STANDARD
BEGIN:DAYLIGHT
TZOFFSETFROM:-0500
TZOFFSETTO:-0400
TZNAME:EDT
DTSTART:20230312T070000
END:DAYLIGHT
BEGIN:STANDARD
TZOFFSETFROM:-0400
TZOFFSETTO:-0500
TZNAME:EST
DTSTART:20231105T060000
END:STANDARD
END:VTIMEZONE
BEGIN:VEVENT
DTSTART;TZID=America/Toronto:20220301T090000
DTEND;TZID=America/Toronto:20220301T090000
DTSTAMP:20260422T160326
CREATED:20231113T034112Z
LAST-MODIFIED:20231113T034112Z
UID:4853-1646125200-1646125200@g-tac.ca
SUMMARY:魁省新移民报税基础知识
DESCRIPTION:魁省报税需要准备的材料有哪些？\n报税后您和您的家庭可能享受的福利有哪些？\n 符合退税和抵税的款项有哪些？\n在魁省住多久才可以领到‘团结税’? \n欢迎您移民来到来魁北克省。蒙特利尔是加拿大第二大城市，一直是来自世界各地的新移民的首选之地。鉴于历史渊源和语言的独特性，魁省在经济文化以及新移民服务方面有一些不同于其他省份的特点。又到了一年一度的报税季节了，如果您担心法语不流利对报税有影响，或者想知道自己对魁省报税不是很了解该怎么办？ 我们的特邀嘉宾蒙特利尔CARI St-Laurent新移民安居指导员王立新女士，她会给大家介绍在魁省报税的一些基础知识，报税与福利，税局志愿者报税服务，以及新移民在报税方面可以得到哪些社区帮助。王女士有多年的魁省新移民安居辅导经验，她更是CARI St-Laurent在新移民报税活动的负责专员。讲座将以普通话进行，敬请参加。\n 
URL:https://g-tac.ca/event/%e9%ad%81%e7%9c%81%e6%96%b0%e7%a7%bb%e6%b0%91%e6%8a%a5%e7%a8%8e%e5%9f%ba%e7%a1%80%e7%9f%a5%e8%af%86/
ATTACH;FMTTYPE=image/png:https://g-tac.ca/wp-content/uploads/2022/02/40.png
END:VEVENT
END:VCALENDAR