BEGIN:VCALENDAR
VERSION:2.0
PRODID:-//G-TAC - ECPv6.15.20//NONSGML v1.0//EN
CALSCALE:GREGORIAN
METHOD:PUBLISH
X-WR-CALNAME:G-TAC
X-ORIGINAL-URL:https://g-tac.ca
X-WR-CALDESC:Events for G-TAC
REFRESH-INTERVAL;VALUE=DURATION:PT1H
X-Robots-Tag:noindex
X-PUBLISHED-TTL:PT1H
BEGIN:VTIMEZONE
TZID:America/Toronto
BEGIN:DAYLIGHT
TZOFFSETFROM:-0500
TZOFFSETTO:-0400
TZNAME:EDT
DTSTART:20200308T070000
END:DAYLIGHT
BEGIN:STANDARD
TZOFFSETFROM:-0400
TZOFFSETTO:-0500
TZNAME:EST
DTSTART:20201101T060000
END:STANDARD
BEGIN:DAYLIGHT
TZOFFSETFROM:-0500
TZOFFSETTO:-0400
TZNAME:EDT
DTSTART:20210314T070000
END:DAYLIGHT
BEGIN:STANDARD
TZOFFSETFROM:-0400
TZOFFSETTO:-0500
TZNAME:EST
DTSTART:20211107T060000
END:STANDARD
BEGIN:DAYLIGHT
TZOFFSETFROM:-0500
TZOFFSETTO:-0400
TZNAME:EDT
DTSTART:20220313T070000
END:DAYLIGHT
BEGIN:STANDARD
TZOFFSETFROM:-0400
TZOFFSETTO:-0500
TZNAME:EST
DTSTART:20221106T060000
END:STANDARD
END:VTIMEZONE
BEGIN:VEVENT
DTSTART;TZID=America/Toronto:20211216T090000
DTEND;TZID=America/Toronto:20211216T090000
DTSTAMP:20260422T202229
CREATED:20231113T034206Z
LAST-MODIFIED:20231113T034206Z
UID:4874-1639645200-1639645200@g-tac.ca
SUMMARY:Explore Potential Career Paths in Canada’s Construction Sector
DESCRIPTION:– Do you want free one-on-one employment coaching to support your career transition to Canada before you move?– Access pre-arrival employment supports\, connections and live job leads through BCCA-Integrating Newcomers\n– Available to you online and at your own pace no matter what city\, province or territory you’re heading to.\nDescription:\nConstruction sector is critical to Canada’s economy\, since it contributes 7.5 per cent of Canada’s GDP\, and employs 1.4 million people. There are various career paths for you to explore.\nThe BCCA-Integrating Newcomers (BCCA-IN) program is a government-funded\, free\, nationwide employment coaching service for skilled immigrants looking to transition careers to the construction industry in Canada – before moving here.\nAt no cost to you\, BCCA-IN will assign a dedicated career coach and you will receive construction-related job hunting tips and tools\, live job leads\, a detailed skills and education assessment\, connections to provincial professional associations and licensing authorities\, plus\, suggestions on the most relevant pre and post-arrival settlement services you should access. Whether you have extensive experience in construction in your home country or are considering the construction industry as a target sector in Canada for your skills for the first time\, we can help.\n \n \n \n \n 
URL:https://g-tac.ca/event/explore-potential-career-paths-in-canadas-construction-sector-2/
ATTACH;FMTTYPE=image/png:https://g-tac.ca/wp-content/uploads/2021/11/sample-IN-collage-used-by-our-partner-2.png
END:VEVENT
BEGIN:VEVENT
DTSTART;TZID=America/Toronto:20211216T090000
DTEND;TZID=America/Toronto:20211216T100000
DTSTAMP:20260422T202229
CREATED:20211206T210705Z
LAST-MODIFIED:20211206T212514Z
UID:1243-1639645200-1639648800@g-tac.ca
SUMMARY:Explore Potential Career Paths in Canada’s Construction Sector
DESCRIPTION:– Do you want free one-on-one employment coaching to support your career transition to Canada before you move? \n– Access pre-arrival employment supports\, connections and live job leads through BCCA-Integrating Newcomers \n– Available to you online and at your own pace no matter what city\, province or territory you’re heading to. \nDescription: \nConstruction sector is critical to Canada’s economy\, since it contributes 7.5 per cent of Canada’s GDP\, and employs 1.4 million people. There are various career paths for you to explore. \nThe BCCA-Integrating Newcomers (BCCA-IN) program is a government-funded\, free\, nationwide employment coaching service for skilled immigrants looking to transition careers to the construction industry in Canada – before moving here. \nAt no cost to you\, BCCA-IN will assign a dedicated career coach and you will receive construction-related job hunting tips and tools\, live job leads\, a detailed skills and education assessment\, connections to provincial professional associations and licensing authorities\, plus\, suggestions on the most relevant pre and post-arrival settlement services you should access. Whether you have extensive experience in construction in your home country or are considering the construction industry as a target sector in Canada for your skills for the first time\, we can help. \n  \n  \n  \n  \n 
URL:https://g-tac.ca/event/explore-potential-career-paths-in-canadas-construction-sector/
ATTACH;FMTTYPE=image/png:https://g-tac.ca/wp-content/uploads/2021/11/sample-IN-collage-used-by-our-partner-2.png
END:VEVENT
END:VCALENDAR