BEGIN:VCALENDAR
VERSION:2.0
PRODID:-//G-TAC - ECPv6.15.20//NONSGML v1.0//EN
CALSCALE:GREGORIAN
METHOD:PUBLISH
X-WR-CALNAME:G-TAC
X-ORIGINAL-URL:https://g-tac.ca
X-WR-CALDESC:Events for G-TAC
REFRESH-INTERVAL;VALUE=DURATION:PT1H
X-Robots-Tag:noindex
X-PUBLISHED-TTL:PT1H
BEGIN:VTIMEZONE
TZID:America/Toronto
BEGIN:DAYLIGHT
TZOFFSETFROM:-0500
TZOFFSETTO:-0400
TZNAME:EDT
DTSTART:20200308T070000
END:DAYLIGHT
BEGIN:STANDARD
TZOFFSETFROM:-0400
TZOFFSETTO:-0500
TZNAME:EST
DTSTART:20201101T060000
END:STANDARD
BEGIN:DAYLIGHT
TZOFFSETFROM:-0500
TZOFFSETTO:-0400
TZNAME:EDT
DTSTART:20210314T070000
END:DAYLIGHT
BEGIN:STANDARD
TZOFFSETFROM:-0400
TZOFFSETTO:-0500
TZNAME:EST
DTSTART:20211107T060000
END:STANDARD
BEGIN:DAYLIGHT
TZOFFSETFROM:-0500
TZOFFSETTO:-0400
TZNAME:EDT
DTSTART:20220313T070000
END:DAYLIGHT
BEGIN:STANDARD
TZOFFSETFROM:-0400
TZOFFSETTO:-0500
TZNAME:EST
DTSTART:20221106T060000
END:STANDARD
END:VTIMEZONE
BEGIN:VEVENT
DTSTART;TZID=America/Toronto:20211209T090000
DTEND;TZID=America/Toronto:20211209T090000
DTSTAMP:20260422T202404
CREATED:20231113T034212Z
LAST-MODIFIED:20231113T034212Z
UID:4875-1639040400-1639040400@g-tac.ca
SUMMARY:Navigating Canadian Immigration System
DESCRIPTION:What are the main pathways to immigrate to Canada?What are the latest updates on immigration programs?\nHow to get start?\nIf you are interested in immigrating to Canada\, you need to learn what the pathway(s) that suit your background. At Bright Tomorrows\, we are licensed to work on all immigration programs and provide smart representation and advice to foreign nationals who are looking to obtain a visa and enter Canada on a permanent or temporary basis.\nBright Tomorrows is focused on helping its clients come to Canada in the shortest possible time through various avenues\, including finding work in Canada\, investment\, etc. Bright Tomorrows had been selected for CBRB Best Businesses in Canada 2021. At Bright Tomorrows\, they help you to have a bright tomorrow for your family and your dreams to come true.\nAbout the speaker: Mary Yazdani is the operation manager of Bright Tomorrows Immigration Services. She has a computer engineering background with over 15 years of experience in different industries working with international companies and with people across the world from different cultures and religious backgrounds. Therefore\, as an immigrant\, she can understand the needs of people who want to move to Canada and start their new life in Canada. Since Mary moved to Canada\, she has been helping new immigrants and newcomers as a volunteer and mentor.
URL:https://g-tac.ca/event/navigating-canadian-immigration-system-2/
ATTACH;FMTTYPE=image/png:https://g-tac.ca/wp-content/uploads/2021/11/54.png
END:VEVENT
BEGIN:VEVENT
DTSTART;TZID=America/Toronto:20211209T090000
DTEND;TZID=America/Toronto:20211209T100000
DTSTAMP:20260422T202404
CREATED:20211206T210809Z
LAST-MODIFIED:20211206T210809Z
UID:1245-1639040400-1639044000@g-tac.ca
SUMMARY:Navigating Canadian Immigration System
DESCRIPTION:What are the main pathways to immigrate to Canada? \nWhat are the latest updates on immigration programs? \nHow to get start? \nIf you are interested in immigrating to Canada\, you need to learn what the pathway(s) that suit your background. At Bright Tomorrows\, we are licensed to work on all immigration programs and provide smart representation and advice to foreign nationals who are looking to obtain a visa and enter Canada on a permanent or temporary basis. \nBright Tomorrows is focused on helping its clients come to Canada in the shortest possible time through various avenues\, including finding work in Canada\, investment\, etc. Bright Tomorrows had been selected for CBRB Best Businesses in Canada 2021. At Bright Tomorrows\, they help you to have a bright tomorrow for your family and your dreams to come true. \nAbout the speaker: Mary Yazdani is the operation manager of Bright Tomorrows Immigration Services. She has a computer engineering background with over 15 years of experience in different industries working with international companies and with people across the world from different cultures and religious backgrounds. Therefore\, as an immigrant\, she can understand the needs of people who want to move to Canada and start their new life in Canada. Since Mary moved to Canada\, she has been helping new immigrants and newcomers as a volunteer and mentor.
URL:https://g-tac.ca/event/navigating-canadian-immigration-system/
ATTACH;FMTTYPE=image/png:https://g-tac.ca/wp-content/uploads/2021/11/54.png
END:VEVENT
END:VCALENDAR