BEGIN:VCALENDAR
VERSION:2.0
PRODID:-//G-TAC - ECPv6.15.20//NONSGML v1.0//EN
CALSCALE:GREGORIAN
METHOD:PUBLISH
X-WR-CALNAME:G-TAC
X-ORIGINAL-URL:https://g-tac.ca
X-WR-CALDESC:Events for G-TAC
REFRESH-INTERVAL;VALUE=DURATION:PT1H
X-Robots-Tag:noindex
X-PUBLISHED-TTL:PT1H
BEGIN:VTIMEZONE
TZID:America/Toronto
BEGIN:DAYLIGHT
TZOFFSETFROM:-0500
TZOFFSETTO:-0400
TZNAME:EDT
DTSTART:20200308T070000
END:DAYLIGHT
BEGIN:STANDARD
TZOFFSETFROM:-0400
TZOFFSETTO:-0500
TZNAME:EST
DTSTART:20201101T060000
END:STANDARD
BEGIN:DAYLIGHT
TZOFFSETFROM:-0500
TZOFFSETTO:-0400
TZNAME:EDT
DTSTART:20210314T070000
END:DAYLIGHT
BEGIN:STANDARD
TZOFFSETFROM:-0400
TZOFFSETTO:-0500
TZNAME:EST
DTSTART:20211107T060000
END:STANDARD
BEGIN:DAYLIGHT
TZOFFSETFROM:-0500
TZOFFSETTO:-0400
TZNAME:EDT
DTSTART:20220313T070000
END:DAYLIGHT
BEGIN:STANDARD
TZOFFSETFROM:-0400
TZOFFSETTO:-0500
TZNAME:EST
DTSTART:20221106T060000
END:STANDARD
END:VTIMEZONE
BEGIN:VEVENT
DTSTART;TZID=America/Toronto:20211207T090000
DTEND;TZID=America/Toronto:20211207T090000
DTSTAMP:20260422T202231
CREATED:20231113T034206Z
LAST-MODIFIED:20231113T034206Z
UID:4873-1638867600-1638867600@g-tac.ca
SUMMARY:四两拨千斤：如何通过艺术特长敲开美国名校之门
DESCRIPTION:艺术申请案例分析：莱斯大学建筑设计专业2021美本录取海量数据显示，不同专业在同一水平大学的录取率可以相差接近5倍！其中艺术相关专业的录取率高居各专业录取率的榜首！与此同时，拥有优秀的作品集不仅仅是申请艺术专业院校的必经之路，更是以常青藤为首的顶级大学留给学生展示自身独特优势的绝好机会。无论申请任何专业，哈佛大学和斯坦福大学都鼓励学生提交作品集，哥伦比亚大学和MIT甚至可以提交两种不同类型的作品集。\n12月7日，周二，G-TAC邀请美国兰火把教育的联合创始人高琳博士，分享如何通过艺术特长敲开美国名校之门—艺术申请案例分析：莱斯大学建筑设计专业。同时为大家解读顶级大学艺术专业的招生流程，以及通过2021年美国高中生视觉艺术最高奖获得者(YoungArts Finalist)的优秀作品，分析优秀作品集的必备要素。\n高博士毕业于美国宾州州立大学教育学院国家劳动力教育与发展专业，其博士研究包括组织发展、领导力培训评估与职业测评。她目前定居美国洛杉矶，是美国认证的独立教育顾问(NACAC\, HECA\, IECA)，帮助初高中学生准备美本申请以及大学生就业辅导等工作。\n 
URL:https://g-tac.ca/event/%e5%9b%9b%e4%b8%a4%e6%8b%a8%e5%8d%83%e6%96%a4%ef%bc%9a%e5%a6%82%e4%bd%95%e9%80%9a%e8%bf%87%e8%89%ba%e6%9c%af%e7%89%b9%e9%95%bf%e6%95%b2%e5%bc%80%e7%be%8e%e5%9b%bd%e5%90%8d%e6%a0%a1%e4%b9%8b%e9%97%a8-2/
ATTACH;FMTTYPE=image/png:https://g-tac.ca/wp-content/uploads/2021/11/57.png
END:VEVENT
END:VCALENDAR