BEGIN:VCALENDAR
VERSION:2.0
PRODID:-//G-TAC - ECPv6.15.20//NONSGML v1.0//EN
CALSCALE:GREGORIAN
METHOD:PUBLISH
X-WR-CALNAME:G-TAC
X-ORIGINAL-URL:https://g-tac.ca
X-WR-CALDESC:Events for G-TAC
REFRESH-INTERVAL;VALUE=DURATION:PT1H
X-Robots-Tag:noindex
X-PUBLISHED-TTL:PT1H
BEGIN:VTIMEZONE
TZID:America/Toronto
BEGIN:DAYLIGHT
TZOFFSETFROM:-0500
TZOFFSETTO:-0400
TZNAME:EDT
DTSTART:20200308T070000
END:DAYLIGHT
BEGIN:STANDARD
TZOFFSETFROM:-0400
TZOFFSETTO:-0500
TZNAME:EST
DTSTART:20201101T060000
END:STANDARD
BEGIN:DAYLIGHT
TZOFFSETFROM:-0500
TZOFFSETTO:-0400
TZNAME:EDT
DTSTART:20210314T070000
END:DAYLIGHT
BEGIN:STANDARD
TZOFFSETFROM:-0400
TZOFFSETTO:-0500
TZNAME:EST
DTSTART:20211107T060000
END:STANDARD
BEGIN:DAYLIGHT
TZOFFSETFROM:-0500
TZOFFSETTO:-0400
TZNAME:EDT
DTSTART:20220313T070000
END:DAYLIGHT
BEGIN:STANDARD
TZOFFSETFROM:-0400
TZOFFSETTO:-0500
TZNAME:EST
DTSTART:20221106T060000
END:STANDARD
END:VTIMEZONE
BEGIN:VEVENT
DTSTART;TZID=America/Toronto:20211202T090000
DTEND;TZID=America/Toronto:20211202T090000
DTSTAMP:20260422T202233
CREATED:20231113T034213Z
LAST-MODIFIED:20231113T034213Z
UID:4876-1638435600-1638435600@g-tac.ca
SUMMARY:How to Make Your Profile Stand-out to Canadian Employers
DESCRIPTION:Topics to cover:1)     Perfecting your Professional Introduction\n2)     How to make your resume stand out\n3)     Tips to a great LinkedIn Profile\nStatistically\, only 20% of the applicants will get the interview opportunity. As ever-increasing number of Canadian Employers are researching candidates on-line\, it is important for job seekers to be strategic to impress a potential employer. You need to make your resume and online profile stand out from the pack. And you need to be well prepared for the interview that comes after you impress a potential employer. In this workshop\, G-TAC is pleased to invite Erica Dunlap\,  Professional Employment Consultant\,  to share her insights and tips on how to prepare your applications. Please join us on Thursday\, December 2nd\, 2021\, from 9:00 am to 10:00 am ET.\n \n \n \n 
URL:https://g-tac.ca/event/how-to-make-your-profile-stand-out-to-canadian-employers-2/
ATTACH;FMTTYPE=image/png:https://g-tac.ca/wp-content/uploads/2021/11/53.png
END:VEVENT
BEGIN:VEVENT
DTSTART;TZID=America/Toronto:20211202T090000
DTEND;TZID=America/Toronto:20211202T100000
DTSTAMP:20260422T202233
CREATED:20211206T210950Z
LAST-MODIFIED:20211206T210950Z
UID:1247-1638435600-1638439200@g-tac.ca
SUMMARY:How to Make Your Profile Stand-out to Canadian Employers
DESCRIPTION:Topics to cover: \n1)     Perfecting your Professional Introduction \n2)     How to make your resume stand out \n3)     Tips to a great LinkedIn Profile \nStatistically\, only 20% of the applicants will get the interview opportunity. As ever-increasing number of Canadian Employers are researching candidates on-line\, it is important for job seekers to be strategic to impress a potential employer. You need to make your resume and online profile stand out from the pack. And you need to be well prepared for the interview that comes after you impress a potential employer. In this workshop\, G-TAC is pleased to invite Erica Dunlap\,  Professional Employment Consultant\,  to share her insights and tips on how to prepare your applications. Please join us on Thursday\, December 2nd\, 2021\, from 9:00 am to 10:00 am ET. \n  \n  \n  \n 
URL:https://g-tac.ca/event/how-to-make-your-profile-stand-out-to-canadian-employers/
ATTACH;FMTTYPE=image/png:https://g-tac.ca/wp-content/uploads/2021/11/53.png
END:VEVENT
END:VCALENDAR