BEGIN:VCALENDAR
VERSION:2.0
PRODID:-//G-TAC - ECPv6.15.20//NONSGML v1.0//EN
CALSCALE:GREGORIAN
METHOD:PUBLISH
X-WR-CALNAME:G-TAC
X-ORIGINAL-URL:https://g-tac.ca
X-WR-CALDESC:Events for G-TAC
REFRESH-INTERVAL;VALUE=DURATION:PT1H
X-Robots-Tag:noindex
X-PUBLISHED-TTL:PT1H
BEGIN:VTIMEZONE
TZID:America/Toronto
BEGIN:DAYLIGHT
TZOFFSETFROM:-0500
TZOFFSETTO:-0400
TZNAME:EDT
DTSTART:20200308T070000
END:DAYLIGHT
BEGIN:STANDARD
TZOFFSETFROM:-0400
TZOFFSETTO:-0500
TZNAME:EST
DTSTART:20201101T060000
END:STANDARD
BEGIN:DAYLIGHT
TZOFFSETFROM:-0500
TZOFFSETTO:-0400
TZNAME:EDT
DTSTART:20210314T070000
END:DAYLIGHT
BEGIN:STANDARD
TZOFFSETFROM:-0400
TZOFFSETTO:-0500
TZNAME:EST
DTSTART:20211107T060000
END:STANDARD
BEGIN:DAYLIGHT
TZOFFSETFROM:-0500
TZOFFSETTO:-0400
TZNAME:EDT
DTSTART:20220313T070000
END:DAYLIGHT
BEGIN:STANDARD
TZOFFSETFROM:-0400
TZOFFSETTO:-0500
TZNAME:EST
DTSTART:20221106T060000
END:STANDARD
END:VTIMEZONE
BEGIN:VTIMEZONE
TZID:UTC
BEGIN:STANDARD
TZOFFSETFROM:+0000
TZOFFSETTO:+0000
TZNAME:UTC
DTSTART:20200101T000000
END:STANDARD
END:VTIMEZONE
BEGIN:VEVENT
DTSTART;TZID=America/Toronto:20211125T090000
DTEND;TZID=America/Toronto:20211125T090000
DTSTAMP:20260422T220353
CREATED:20231113T034222Z
LAST-MODIFIED:20231113T034222Z
UID:4879-1637830800-1637830800@g-tac.ca
SUMMARY:Meet the Employer – Ericsson
DESCRIPTION:Since 1953\, Ericsson has been a critical part of Canada’s innovation story. They are committed to driving the country’s digital program through state-of-the-art technologies such as 5G. Ericsson enables Canada’s industries and service providers to be leaders on the world’s stage. When you work at Ericsson\, you’ll be part of a team of like-minded innovators\, all driven to go beyond the status quo to build what comes next. At Ericsson\, you can be an explorer\, a change-maker and a force for good.Join Ericsson on November 25th\, 2021 to explore: \nWhy work at Ericsson?\nWhat current jobs are available at Ericsson?\nWhat skills do you need to land a job at Ericsson?\nHow has the Covid-19 pandemic impacted work-life at Ericsson? \n  \n 
URL:https://g-tac.ca/event/meet-the-employer-ericsson/
ATTACH;FMTTYPE=image/png:https://g-tac.ca/wp-content/uploads/2021/10/11.png
END:VEVENT
BEGIN:VEVENT
DTSTART;TZID=UTC:20211125T093000
DTEND;TZID=UTC:20211125T100000
DTSTAMP:20260422T220353
CREATED:20211118T214909Z
LAST-MODIFIED:20211118T214909Z
UID:1168-1637832600-1637834400@g-tac.ca
SUMMARY:
DESCRIPTION:Since 1953\, Ericsson has been a critical part of Canada’s innovation story. They are committed to driving the country’s digital program through state-of-the-art technologies such as 5G. Ericsson enables Canada’s industries and service providers to be leaders on the world’s stage. When you work at Ericsson\, you’ll be part of a team of like-minded innovators\, all driven to go beyond the status quo to build what comes next. At Ericsson\, you can be an explorer\, a change-maker and a force for good. \nJoin Ericsson on November 25th\, 2021 to explore: \n\nWhy work at Ericsson?\nWhat current jobs are available at Ericsson?\nWhat skills do you need to land a job at Ericsson?\nHow has the Covid-19 pandemic impacted work-life at Ericsson?
URL:https://g-tac.ca/event/1168/
END:VEVENT
END:VCALENDAR