BEGIN:VCALENDAR
VERSION:2.0
PRODID:-//G-TAC - ECPv6.15.20//NONSGML v1.0//EN
CALSCALE:GREGORIAN
METHOD:PUBLISH
X-ORIGINAL-URL:https://g-tac.ca
X-WR-CALDESC:Events for G-TAC
REFRESH-INTERVAL;VALUE=DURATION:PT1H
X-Robots-Tag:noindex
X-PUBLISHED-TTL:PT1H
BEGIN:VTIMEZONE
TZID:America/Toronto
BEGIN:DAYLIGHT
TZOFFSETFROM:-0500
TZOFFSETTO:-0400
TZNAME:EDT
DTSTART:20200308T070000
END:DAYLIGHT
BEGIN:STANDARD
TZOFFSETFROM:-0400
TZOFFSETTO:-0500
TZNAME:EST
DTSTART:20201101T060000
END:STANDARD
BEGIN:DAYLIGHT
TZOFFSETFROM:-0500
TZOFFSETTO:-0400
TZNAME:EDT
DTSTART:20210314T070000
END:DAYLIGHT
BEGIN:STANDARD
TZOFFSETFROM:-0400
TZOFFSETTO:-0500
TZNAME:EST
DTSTART:20211107T060000
END:STANDARD
BEGIN:DAYLIGHT
TZOFFSETFROM:-0500
TZOFFSETTO:-0400
TZNAME:EDT
DTSTART:20220313T070000
END:DAYLIGHT
BEGIN:STANDARD
TZOFFSETFROM:-0400
TZOFFSETTO:-0500
TZNAME:EST
DTSTART:20221106T060000
END:STANDARD
END:VTIMEZONE
BEGIN:VEVENT
DTSTART;TZID=America/Toronto:20211116T090000
DTEND;TZID=America/Toronto:20211116T090000
DTSTAMP:20260422T220427
CREATED:20231113T034223Z
LAST-MODIFIED:20231113T034223Z
UID:4880-1637053200-1637053200@g-tac.ca
SUMMARY:Living and Working in New Brunswick
DESCRIPTION:What are the major cities in New Brunswick\, and what is it like for you and your family?\nWhat are some of the main industries that employ\, and need new professionals in the Province?\nWhere can I start my career in the region? What resources are there available to newcomers or professionals from another Province? \nDescription: \nJoin Opportunities New Brunswick Immigration Specialists as we discuss why and how you can continue your career & family life in New Brunswick.\nThe Province of New Brunswick is diverse and rich with culture and bilingual communities of both English and French-speaking residents. With robustly growing cities and an educated workforce\, organizations are continuing to move to\, or scale up their presence across New Brunswick\, offering an increasing diversity to residents and skilled immigrants.\nThrough a unique model of economic development and tailored services\, Opportunities New Brunswick (ONB) supports those who launch\, grow\, export\, expand\, and recruit in the province.  Our competitive advantage is our people; experienced professionals building relationships with business and community.\nONB has been proudly serving New Brunswick since 2015 and are looking ahead to the future. \n 
URL:https://g-tac.ca/event/living-and-working-in-new-brunswick/
END:VEVENT
END:VCALENDAR