BEGIN:VCALENDAR
VERSION:2.0
PRODID:-//G-TAC - ECPv6.15.20//NONSGML v1.0//EN
CALSCALE:GREGORIAN
METHOD:PUBLISH
X-ORIGINAL-URL:https://g-tac.ca
X-WR-CALDESC:Events for G-TAC
REFRESH-INTERVAL;VALUE=DURATION:PT1H
X-Robots-Tag:noindex
X-PUBLISHED-TTL:PT1H
BEGIN:VTIMEZONE
TZID:America/Toronto
BEGIN:DAYLIGHT
TZOFFSETFROM:-0500
TZOFFSETTO:-0400
TZNAME:EDT
DTSTART:20200308T070000
END:DAYLIGHT
BEGIN:STANDARD
TZOFFSETFROM:-0400
TZOFFSETTO:-0500
TZNAME:EST
DTSTART:20201101T060000
END:STANDARD
BEGIN:DAYLIGHT
TZOFFSETFROM:-0500
TZOFFSETTO:-0400
TZNAME:EDT
DTSTART:20210314T070000
END:DAYLIGHT
BEGIN:STANDARD
TZOFFSETFROM:-0400
TZOFFSETTO:-0500
TZNAME:EST
DTSTART:20211107T060000
END:STANDARD
BEGIN:DAYLIGHT
TZOFFSETFROM:-0500
TZOFFSETTO:-0400
TZNAME:EDT
DTSTART:20220313T070000
END:DAYLIGHT
BEGIN:STANDARD
TZOFFSETFROM:-0400
TZOFFSETTO:-0500
TZNAME:EST
DTSTART:20221106T060000
END:STANDARD
END:VTIMEZONE
BEGIN:VEVENT
DTSTART;TZID=America/Toronto:20210826T090000
DTEND;TZID=America/Toronto:20210826T090000
DTSTAMP:20260423T033028
CREATED:20231113T034232Z
LAST-MODIFIED:20231113T034232Z
UID:4888-1629968400-1629968400@g-tac.ca
SUMMARY:TD Bank – Meet the Employer
DESCRIPTION:The Toronto–Dominion Bank is a Canadian multinational banking and financial services corporation headquartered in Toronto\, Ontario. It is one of the 5 largest banks in Canada and employs more than 80\,000 people worldwide. Career development is important at TD\, we work hard to promote from within.Join Freya Pulimood\, Talent Acquisition Manager\, Yuliya Ivashchenko and Amanda Simoni\, Talent Acquisition Partners as we explore how a Canadian professional can potentially enter the financial services and insurance industries at TD. The team is involved in identifying and hiring new recruits to join TD Bank in the Greater Toronto Area and is communicating with their partners across Canada.
URL:https://g-tac.ca/event/td-bank-meet-the-employer/
END:VEVENT
END:VCALENDAR